BEGIN:VCALENDAR
VERSION:2.0
PRODID:-//STIEBEL ELTRON Events - ECPv6.15.16//NONSGML v1.0//EN
CALSCALE:GREGORIAN
METHOD:PUBLISH
X-ORIGINAL-URL:https://stiebel-eltron-events.nl
X-WR-CALDESC:Evenementen voor STIEBEL ELTRON Events
REFRESH-INTERVAL;VALUE=DURATION:PT1H
X-Robots-Tag:noindex
X-PUBLISHED-TTL:PT1H
BEGIN:VTIMEZONE
TZID:Europe/Paris
BEGIN:DAYLIGHT
TZOFFSETFROM:+0100
TZOFFSETTO:+0200
TZNAME:CEST
DTSTART:20200329T010000
END:DAYLIGHT
BEGIN:STANDARD
TZOFFSETFROM:+0200
TZOFFSETTO:+0100
TZNAME:CET
DTSTART:20201025T010000
END:STANDARD
BEGIN:DAYLIGHT
TZOFFSETFROM:+0100
TZOFFSETTO:+0200
TZNAME:CEST
DTSTART:20210328T010000
END:DAYLIGHT
BEGIN:STANDARD
TZOFFSETFROM:+0200
TZOFFSETTO:+0100
TZNAME:CET
DTSTART:20211031T010000
END:STANDARD
BEGIN:DAYLIGHT
TZOFFSETFROM:+0100
TZOFFSETTO:+0200
TZNAME:CEST
DTSTART:20220327T010000
END:DAYLIGHT
BEGIN:STANDARD
TZOFFSETFROM:+0200
TZOFFSETTO:+0100
TZNAME:CET
DTSTART:20221030T010000
END:STANDARD
BEGIN:DAYLIGHT
TZOFFSETFROM:+0100
TZOFFSETTO:+0200
TZNAME:CEST
DTSTART:20230326T010000
END:DAYLIGHT
BEGIN:STANDARD
TZOFFSETFROM:+0200
TZOFFSETTO:+0100
TZNAME:CET
DTSTART:20231029T010000
END:STANDARD
END:VTIMEZONE
BEGIN:VEVENT
DTSTART;TZID=Europe/Paris:20220623T113000
DTEND;TZID=Europe/Paris:20220623T123000
DTSTAMP:20260422T121020
CREATED:20220607T124147Z
LAST-MODIFIED:20220928T065807Z
UID:7296-1655983800-1655987400@stiebel-eltron-events.nl
SUMMARY:Webinar: Van het gas af zonder een koude douche
DESCRIPTION:[vc_row][vc_column]    	\n        Kijk het webinar terug        \n        [vc_column_text]Het is zo vanzelfsprekend: je draait de kraan open en daar is het. Warm water. Iedereen gebruikt het\, en veel ook. Onder de douche\, in de keuken. Niet zo gek dus dat 20% van het gasverbruik in een woning opgaat aan het verwarmen van water. Maar wat gebeurt er als we in 2026 van het gas af moeten? Gaan we dan koud douchen\, of zijn er alternatieven? De specialisten van STIEBEL ELTRON & Luxxor vertellen je op 23 juni 2022 in het webinar ‘Van het gas af zonder een koude douche’ hoe het anders kan en welke trends en mogelijkheden er zijn op het gebied van duurzaam tapwater. Hoe ga jij om met ruimtegebrek en verspilling van water? Nieuwsgierig naar de mogelijkheden? Meld je snel aan! \nTrends\n\nWater uit de kraan is in Nederland zo gewoon dat we er lang niet altijd bij stilstaan dat er op dit gebied verschillende duurzame oplossingen en trends bestaan. Dat begint bij het verwarmen van het water tot aan de doucheput waar dit water in verdwijnt. Tegenwoordig is er vaak ruimtegebrek en is verspilling van water zonde.  Want waar moet je in bestaande bouw in hemelsnaam een 300-litervat kwijt. Tijdens het webinar bespreken we de trends op het gebied van: \n\nElektrisch warm water\nTapwater\nDuurzaam douchen\nRuimte\n\nSTIEBEL ELTRON dé specialist in duurzaam comfort\nSinds 1924 optimaliseert STIEBEL ELTRON de techniek achter warmwater. De investeringen die jij of je klant zullen zich nog steeds terugverdienen en het wooncomfort in de toekomst verhogen. De tapwatertoestellen van STIEBEL ELTRON bieden een uniek comfortniveau in keukens en badkamers. Doorstroom- en kleine boilers zorgen voor warm water op een zeer efficiënte en decentrale manier. \nLuxxor dé specialist in duurzaam design \nLuxxor laat met hun uitgebreide portfolio aan douchedrains en -putten zien dat duurzaam\, design en comfort op grote schaal kan worden toegepast. Duurzaamheid en circulariteit worden nagestreefd in douchedrains en doucheputten die zijn gemaakt van hoogwaardig RVS en komen van Nederlandse bodem. Of er nu gekozen wordt voor een Luxxor douchedrain of doucheput\, beide zijn ‘Made in Holland’\, kennen een lange levensduur en zijn van hoge kwaliteit.[/vc_column_text][/vc_column][/vc_row][vc_row content_placement=”middle” leaf_row_scheme=”0″][vc_column width=”1/4″][/vc_column][vc_column width=”1/2″][vc_column_text] \n    \n        \n	\n[/vc_column_text][/vc_column][vc_column width=”1/4″][/vc_column][/vc_row][vc_row content_placement=”middle” leaf_row_scheme=”0″][vc_column width=”1/4″][/vc_column][vc_column width=”1/2″ el_class=”center”][vc_custom_heading text=”Helemaal enthousiast geworden over dit webinar?” use_theme_fonts=”yes”]    	\n        Meld je dan nu aan!        \n        [vc_empty_space height=”50px”][/vc_column][vc_column width=”1/4″][/vc_column][/vc_row][vc_row full_width=”stretch_row” leaf_row_scheme=”0″ css=”.vc_custom_1654783080671{background-color: #ba0c2f !important;}” el_class=”ctabanner”][vc_column width=”1/2″][vc_single_image image=”7330″ img_size=”full” alignment=”right”][/vc_column][vc_column width=”1/2″ el_class=”cta-link-header”][vc_empty_space height=”20px”][vc_custom_heading text=”Meld je nu aan voor ons nieuwe trendartikel “Duurzaam tapwater“” font_container=”tag:h2|font_size:40px|text_align:center|color:%23ffffff” use_theme_fonts=”yes” link=”url:https%3A%2F%2Fstiebel-eltron-events.nl%2Faanmelden-trendartikel-duurzaam-tapwater%2F” el_id=”cta-link”][vc_empty_space height=”20px”][/vc_column][/vc_row]
URL:https://stiebel-eltron-events.nl/event/webinar-van-het-gas-af-zonder-een-koude-douche/
ATTACH;FMTTYPE=image/jpeg:https://stiebel-eltron-events.nl/wp-content/uploads/2022/06/van-het-gas-af-zonder-een-koude-douche.jpg
END:VEVENT
BEGIN:VEVENT
DTSTART;TZID=Europe/Paris:20220412T113000
DTEND;TZID=Europe/Paris:20220412T123000
DTSTAMP:20260422T121020
CREATED:20220214T162406Z
LAST-MODIFIED:20220928T065625Z
UID:6961-1649763000-1649766600@stiebel-eltron-events.nl
SUMMARY:Webinar: Hoe Hybride wil jij het hebben?
DESCRIPTION:[vc_row][vc_column]    	\n        Ik wil het webinar terugkijken        \n        [vc_column_text]De warmtepomp bestaat al jaren\, alleen kies jij of jouw klant voor hybride\, waterstof of all-electric? Welke oplossing is voor welke woning of project het meest geschikt? Wil jij of je opdrachtgever direct van het gas af of via een tussenstap? Wat is haalbaar en wanneer maak je de juiste keuze? Op deze en andere vragen krijg jij antwoord tijdens dit gratis webinar op dinsdag 12 april 2022. Dus meld je snel aan! \nTrendartikel: Toekomst van warmtepompen 2022\nDiverse warmtepompen kennen verschillende toepassingen. De mogelijkheden en trends volgen elkaar in snel tempo op. Welke trend ga jij volgen? Wat is de toekomst van warmtepompen? In dit webinar gaan specialisten van STIEBEL ELTRON en andere experts je naar aanleiding van het toekomstige trendartikel alles vertellen over: \n\nWat de markttrends zijn\nWat de mogelijkheden zijn als het gaat om hybride\, waterstof en all-electric\nDe techniek van verschillende warmtepompen\nHoe je succesvol warmtepompen aanbiedt\nWat de toekomstverwachtingen zijn van warmtepompen\n\nIk wil graag het trendartikel ontvangen!\nMeld je je na het webinar aan voor de nieuwsbrief? Dan ontvang jij direct na publicatie als eerste het trendartikel over de toekomst van warmtepompen. \nCasussen uit de praktijk\nSTIEBEL ELTRON maakt niet alleen kwalitatief goede oplossingen voor duurzaamheid. Veel van onze collega’s komen uit het werkveld. Ze kennen de installateurs maar ook de gebruikers. Tijdens dit webinar zullen zij je dan ook graag meenemen langs verschillende casussen om een inkijkje te geven wat jou opties zijn op weg naar all-electric en wat dat voor jou of de klant betekent. \nSprekers & aanmelden webinar\nHet gratis webinar vindt 12 april plaats van 12.30 tot 13.30 uur. Je kunt tijdens dit webinar live vragenstellen! \nSprekers: \n\nMike de Hond\, accountmanager bij STIEBEL ELTRON. STIEBEL ELTRON is leverancier van duurzame warmtepompen\nDennis Blonk\, sales manager bij STIEBEL ELTRON\nHans Olofsen\, technisch adviseur bij STIEBEL ELTRON\nPaul Willems\, directeur Hoomie\n\n[/vc_column_text][/vc_column][/vc_row][vc_row content_placement=”middle” leaf_row_scheme=”0″][vc_column width=”1/4″][/vc_column][vc_column width=”1/2″][vc_column_text] \n    \n        \n	\n[/vc_column_text][/vc_column][vc_column width=”1/4″][/vc_column][/vc_row][vc_row content_placement=”middle” leaf_row_scheme=”0″][vc_column width=”1/4″][/vc_column][vc_column width=”1/2″ el_class=”center”][vc_custom_heading text=”Helemaal enthousiast geworden over dit webinar?” use_theme_fonts=”yes”]    	\n        Meld je dan nu aan!        \n        [/vc_column][vc_column width=”1/4″][/vc_column][/vc_row]
URL:https://stiebel-eltron-events.nl/event/webinar-hoe-hybride-wil-jij-het-hebben/
ATTACH;FMTTYPE=image/jpeg:https://stiebel-eltron-events.nl/wp-content/uploads/2022/02/NL-PIC00010897-00.jpg
END:VEVENT
BEGIN:VEVENT
DTSTART;TZID=Europe/Paris:20210617T113000
DTEND;TZID=Europe/Paris:20210617T123000
DTSTAMP:20260422T121020
CREATED:20230131T134439Z
LAST-MODIFIED:20230131T135213Z
UID:8023-1623929400-1623933000@stiebel-eltron-events.nl
SUMMARY:Terugblik webinar: Switch met onze unieke warmtepomp naar een gezond en comfortabel binnenklimaat
DESCRIPTION:[vc_row leaf_row_scheme=”0″ css=”.vc_custom_1635795134198{margin-top: -100px !important;background-color: #f9f9f9 !important;}”][vc_column][vc_empty_space height=”60px”][vc_custom_heading text=”Wil je het webinar terugkijken?” use_theme_fonts=”yes”]    	\n        Naar het webinar        \n        [/vc_column][/vc_row][vc_row][vc_column][vc_empty_space][vc_column_text]Energieneutraal bouwen is al bijna standaard\, met de vernieuwde BENG-eisen en rekentools. Het begint met goed isoleren daarnaast  zijn sinds Covid-19 ventilatie en een gezond binnenklimaat onderwerpen die steeds belangrijker worden. De switch is gemaakt naar het ontzorgen van onze klanten en het optimaliseren van het wooncomfort en een gezondere leefomgeving. \nDe overstap naar gasloze nieuwbouw betekent in veel gevallen het toepassen van warmtepomptechniek. In dit webinar leggen productspecialisten van STIEBEL ELTRON uit wat daarvoor nodig is. Maar bovenal tonen ze de ideale oplossing van de fabrikant: een warmtepomp die alles in één apparaat heeft: duurzame verwarming en koelen\, in combinatie met balansventilatie. Hiermee kun je dus met één techniek een energiezuinig en gezond binnenklimaat borgen. In dit webinar geven de specialisten van STIEBEL ELTRON advies voor ontwerp en tips in de uitvoering. En Huub van der Kamp\, directeur en eigenaar KWP Installaties\, geeft advies. Uiteraard nemen we je ook mee in de laatste stand van zaken op het gebied van BENG\, geluid en onze unieke oplossingen. STIEBEL ELTRON is leverancier van duurzame installatietechniek: wij zijn fabrikant van zowel bodemgebonden als lucht/water-warmtepompen\, warmtepompboilers en Home Comfort producten. STIEBEL ELTRON heeft bijna 100 jaar ervaring als All-Electric specialist en heeft 45 jaar ervaring in de warmtepomptechniek. Dit geeft STIEBEL ELTRON een uitgebreid assortiment waarmee we altijd de juiste technische oplossing kunnen bieden. Deze ervaring levert ook veel kennis op welke wij graag delen. \nTijdens het webinar geven wij antwoord op onder andere de volgende vragen. Welke stappen moet je nemen als het gaat om gasloos verduurzamen? Is een warmtepomp geschikt voor mijn project? Welke mogelijkheden zijn er allemaal? Waar moet ik juist op letten? Zeker met alle BENG3 eisen. Zijn er tools beschikbaar? Hoeveel geluid maakt een warmtepomp daadwerkelijk? \nUiteraard zullen we ook projectcases bespreken waarbij wij de nieuwe rekentools toepassen en daarnaast een korte toelichting geven op de eigen tools van STIEBEL ELTRON. \nHet webinar “Switch met warmtepompen naar een gezond en comfortabel binnenklimaat” is op donderdag 17 juni van 12.30 tot 13.30 uur. Collega’s Dennis Blonk\, Raf Cox en Alex Peelen vertellen je graag meer over dit onderwerp. \nOver de sprekers\nDennis Blonk is sales manager\, Raf Cox is product manager en Alex Peelen is Technisch commercieel adviseur projecten. Zij hebben veelvuldig contact met installateurs\, aannemers en adviseurs. Hun rol is om objectief naar de case te kijken en daarbij te adviseren\, inspireren en informeren. Om uiteindelijk een gezond\, milieubewust en comfortabel binnenklimaat te realiseren voor bewoners. Huub van der Kamp\, eigenaar KWP Installaties plaatst eigen geprefabriceerde oplossingen\, maar levert ook maatwerk aan collega-installateurs. \n[/vc_column_text][/vc_column][/vc_row]
URL:https://stiebel-eltron-events.nl/event/terugblik-webinar-switch-met-onze-unieke-warmtepomp-naar-een-gezond-en-comfortabel-binnenklimaat-2/
ATTACH;FMTTYPE=image/jpeg:https://stiebel-eltron-events.nl/wp-content/uploads/2021/05/webinar-17juni2021-1.jpg
END:VEVENT
BEGIN:VEVENT
DTSTART;TZID=Europe/Paris:20210617T113000
DTEND;TZID=Europe/Paris:20210617T123000
DTSTAMP:20260422T121020
CREATED:20180110T151408Z
LAST-MODIFIED:20220928T065839Z
UID:3628-1623929400-1623933000@stiebel-eltron-events.nl
SUMMARY:Terugblik webinar: Switch met onze unieke warmtepomp naar een gezond en comfortabel binnenklimaat
DESCRIPTION:[vc_row leaf_row_scheme=”0″ css=”.vc_custom_1635795134198{margin-top: -100px !important;background-color: #f9f9f9 !important;}”][vc_column][vc_column_text][/vc_column_text][/vc_column][/vc_row][vc_row][vc_column][vc_column_text]Energieneutraal bouwen is al bijna standaard\, met de vernieuwde BENG-eisen en rekentools. Het begint met goed isoleren daarnaast  zijn sinds Covid-19 ventilatie en een gezond binnenklimaat onderwerpen die steeds belangrijker worden. De switch is gemaakt naar het ontzorgen van onze klanten en het optimaliseren van het wooncomfort en een gezondere leefomgeving. \nDe overstap naar gasloze nieuwbouw betekent in veel gevallen het toepassen van warmtepomptechniek. In dit webinar leggen productspecialisten van STIEBEL ELTRON uit wat daarvoor nodig is. Maar bovenal tonen ze de ideale oplossing van de fabrikant: een warmtepomp die alles in één apparaat heeft: duurzame verwarming en koelen\, in combinatie met balansventilatie. Hiermee kun je dus met één techniek een energiezuinig en gezond binnenklimaat borgen. In dit webinar geven de specialisten van STIEBEL ELTRON advies voor ontwerp en tips in de uitvoering. En Huub van der Kamp\, directeur en eigenaar KWP Installaties\, geeft advies. Uiteraard nemen we je ook mee in de laatste stand van zaken op het gebied van BENG\, geluid en onze unieke oplossingen. STIEBEL ELTRON is leverancier van duurzame installatietechniek: wij zijn fabrikant van zowel bodemgebonden als lucht/water-warmtepompen\, warmtepompboilers en Home Comfort producten. STIEBEL ELTRON heeft bijna 100 jaar ervaring als All-Electric specialist en heeft 45 jaar ervaring in de warmtepomptechniek. Dit geeft STIEBEL ELTRON een uitgebreid assortiment waarmee we altijd de juiste technische oplossing kunnen bieden. Deze ervaring levert ook veel kennis op welke wij graag delen. \nTijdens het webinar geven wij antwoord op onder andere de volgende vragen. Welke stappen moet je nemen als het gaat om gasloos verduurzamen? Is een warmtepomp geschikt voor mijn project? Welke mogelijkheden zijn er allemaal? Waar moet ik juist op letten? Zeker met alle BENG3 eisen. Zijn er tools beschikbaar? Hoeveel geluid maakt een warmtepomp daadwerkelijk? \nUiteraard zullen we ook projectcases bespreken waarbij wij de nieuwe rekentools toepassen en daarnaast een korte toelichting geven op de eigen tools van STIEBEL ELTRON. \nHet webinar “Switch met warmtepompen naar een gezond en comfortabel binnenklimaat” is op donderdag 17 juni van 12.30 tot 13.30 uur. Collega’s Dennis Blonk\, Raf Cox en Alex Peelen vertellen je graag meer over dit onderwerp. \nOver de sprekers\nDennis Blonk is sales manager\, Raf Cox is product manager en Alex Peelen is Technisch commercieel adviseur projecten. Zij hebben veelvuldig contact met installateurs\, aannemers en adviseurs. Hun rol is om objectief naar de case te kijken en daarbij te adviseren\, inspireren en informeren. Om uiteindelijk een gezond\, milieubewust en comfortabel binnenklimaat te realiseren voor bewoners. Huub van der Kamp\, eigenaar KWP Installaties plaatst eigen geprefabriceerde oplossingen\, maar levert ook maatwerk aan collega-installateurs. \n[/vc_column_text][/vc_column][/vc_row]
URL:https://stiebel-eltron-events.nl/event/terugblik-webinar-switch-met-onze-unieke-warmtepomp-naar-een-gezond-en-comfortabel-binnenklimaat/
ATTACH;FMTTYPE=image/jpeg:https://stiebel-eltron-events.nl/wp-content/uploads/2021/05/webinar-17juni2021-1.jpg
END:VEVENT
END:VCALENDAR